BEGIN:VCALENDAR
VERSION:2.0
PRODID:-//Eventin//Event Calendar//EN
CALSCALE:GREGORIAN
METHOD:PUBLISH
BEGIN:VEVENT
UID:705de2d171d263063e6288ddc43ee1f6@neminc.org
SUMMARY:43rd Annual Workshop – OnSite
DESCRIPTION:Reaching a Dying World: A Commitment to Share the Gospel\nThe N
 ational Evangelism Movement (N.E.M.) Annual Conference is more than just an
  event—it's a divine appointment. Join us for a powerful gathering of bel
 ievers\, evangelists\, and church leaders as we come together to equip\, em
 power\, and expand the Kingdom of God.\n\nTo make hotel reservations\, kind
 ly use this link for discounts at the Hilton\nhttps://www.hilton.com/en/boo
 k/reservation/deeplink/?ctyhocn=OKCBTHX&groupCode=CHH919&arrivaldate=2026-0
 7-21&departuredate=2026-07-25&cid=OM\,WW\,HILTONLINK\,EN\,DirectLink&fromId
 =HILTONLINKDIRECT\n\nWhy Attend?\n\nSpirit-Filled Worship – Experience up
 lifting praise and worship led by anointed musicians.\nPowerful Teaching & 
 Preaching – Hear from dynamic speakers who will inspire and challenge you
 r faith.\nFellowship & Networking – Connect with believers and leaders fr
 om across the nation.\nWorkshops & Training – Gain practical tools for ev
 angelism\, discipleship\, and ministry growth.\n\nSupport the Conference\nC
 an’t attend? You can still be part of the mission! Consider supporting th
 e event through prayer\, sponsorship\, or donations to help us reach more p
 eople for Christ.\nGive to the conference
LOCATION:Bricktown\, Oklahoma City\, OK
DTSTAMP:20260423T144810Z
DTSTART:20260722T140000Z
DTEND:20260725T020000Z
END:VEVENT
END:VCALENDAR
