BEGIN:VCALENDAR
VERSION:2.0
PRODID:-//Eventin//Event Calendar//EN
CALSCALE:GREGORIAN
METHOD:PUBLISH
BEGIN:VEVENT
UID:04dd69ebc31511d51dfcb15197086387@neminc.org
SUMMARY:43rd Annual Workshop – Online
DESCRIPTION:Reaching a Dying World: A Commitment to Share the Gospel\nThe N
 ational Evangelism Movement (N.E.M.) Annual Conference is more than just an
  event—it's a divine appointment. Join us for a powerful gathering of bel
 ievers\, evangelists\, and church leaders as we come together to equip\, em
 power\, and expand the Kingdom of God.\n\nWhy Attend?\n\nSpirit-Filled Wors
 hip – Experience uplifting praise and worship led by anointed musicians.\
 nPowerful Teaching & Preaching – Hear from dynamic speakers who will insp
 ire and challenge your faith.\nFellowship & Networking – Connect with bel
 ievers and leaders from across the nation.\nWorkshops & Training – Gain p
 ractical tools for evangelism\, discipleship\, and ministry growth.\n\n \n
 \nSupport the Conference\nCan’t attend? You can still be part of the miss
 ion! Consider supporting the event through prayer\, sponsorship\, or donati
 ons to help us reach more people for Christ.\n Give to the conference
LOCATION:Online
DTSTAMP:20260423T144853Z
DTSTART:20260722T140000Z
DTEND:20260725T020000Z
END:VEVENT
END:VCALENDAR
