BEGIN:VCALENDAR
VERSION:2.0
PRODID:-//Eventin//Event Calendar//EN
CALSCALE:GREGORIAN
METHOD:PUBLISH
BEGIN:VEVENT
UID:9273a441d51c112b82b87b527433810f@neminc.org
SUMMARY:Second Quarterly Evangelism Workshop
DESCRIPTION:Date: May 15th-16th 2026\nTime: 8:30am - 3:00pm PST\nTopic: TBD
 \nFormat: In-Person and Online\nHost: Bethany Christian Bible College (BCBC
 )\, Los Angeles\, CA
LOCATION:Bethany Christian Bible College
DTSTAMP:20260423T144933Z
DTSTART:20260515T153000Z
DTEND:20260516T220000Z
END:VEVENT
END:VCALENDAR
